{
 "currentVersion": 10.91,
 "serviceDescription": "SoH_Imagery/HDOTA_FAR_Part77_Airspace_Surfaces",
 "name": "SoH_Imagery/HDOTA_FAR_Part77_Airspace_Surfaces",
 "description": "",
 "extent": {
  "xmin": 433053.4320583865,
  "ymin": 2160319.2527416963,
  "xmax": 934132.37476794,
  "ymax": 2446463.2676722375,
  "spatialReference": {
   "wkid": 102202,
   "latestWkid": 3750
  }
 },
 "initialExtent": {
  "xmin": 433053.4320583865,
  "ymin": 2160319.2527416963,
  "xmax": 934132.37476794,
  "ymax": 2446463.2676722375,
  "spatialReference": {
   "wkid": 102202,
   "latestWkid": 3750
  }
 },
 "fullExtent": {
  "xmin": 433053.4320583865,
  "ymin": 2160319.2527416963,
  "xmax": 934132.37476794,
  "ymax": 2446463.2676722375,
  "spatialReference": {
   "wkid": 102202,
   "latestWkid": 3750
  }
 },
 "hasMultidimensions": false,
 "pixelSizeX": 7.830337271995774,
 "pixelSizeY": 7.830337271995763,
 "datasetFormat": "FGDBR",
 "uncompressedSize": 9353838624,
 "blockWidth": 128,
 "blockHeight": 128,
 "compressionType": "LZ77",
 "bandNames": [
  "Band_1"
 ],
 "allowCopy": true,
 "allowAnalysis": true,
 "bandCount": 1,
 "pixelType": "F32",
 "minPixelSize": 0,
 "maxPixelSize": 0,
 "copyrightText": "",
 "serviceDataType": "esriImageServiceDataTypeGeneric",
 "serviceSourceType": "esriImageServiceSourceTypeDataset",
 "minValues": [
  6.599999904632568
 ],
 "maxValues": [
  3219.08447265625
 ],
 "meanValues": [
  781.336323373812
 ],
 "stdvValues": [
  690.1013551850305
 ],
 "objectIdField": "",
 "fields": [],
 "capabilities": "Image,Metadata,Mensuration",
 "defaultMosaicMethod": "Center",
 "allowedMosaicMethods": "",
 "sortField": "",
 "sortValue": null,
 "sortAscending": true,
 "mosaicOperator": "First",
 "defaultCompressionQuality": 75,
 "defaultResamplingMethod": "Bilinear",
 "maxImageHeight": 4100,
 "maxImageWidth": 15000,
 "allowRasterFunction": true,
 "rasterFunctionInfos": [
  {
   "name": "None",
   "description": "Make a Raster or Raster Dataset into a Function Raster Dataset.",
   "help": ""
  },
  {
   "name": "Raster Function Template symbology",
   "description": "Symbology",
   "help": ""
  },
  {
   "name": "None",
   "description": "Make a Raster or Raster Dataset into a Function Raster Dataset.",
   "help": ""
  }
 ],
 "rasterTypeInfos": [
  {
   "name": "Raster Dataset",
   "description": "Supports all ArcGIS Raster Datasets",
   "help": ""
  }
 ],
 "mensurationCapabilities": "Basic",
 "hasHistograms": true,
 "hasColormap": false,
 "hasRasterAttributeTable": false,
 "minScale": 0,
 "maxScale": 0,
 "exportTilesAllowed": false,
 "supportsStatistics": false,
 "supportsAdvancedQueries": false,
 "editFieldsInfo": null,
 "ownershipBasedAccessControlForRasters": null,
 "allowComputeTiePoints": false,
 "useStandardizedQueries": true,
 "advancedQueryCapabilities": {
  "useStandardizedQueries": true,
  "supportsStatistics": false,
  "supportsOrderBy": false,
  "supportsDistinct": false,
  "supportsPagination": false
 },
 "spatialReference": {
  "wkid": 102202,
  "latestWkid": 3750
 }
}
