{
 "currentVersion": 10.91,
 "serviceDescription": "Readme for Hawaii_Landsat_Mosaic_Bathymetric_Fill.jp2\n\nThis satellite image mosaic covers all the main Hawaiian Islands\nwith a bathymetric shaded relief image filled into the ocean\nareas. The land imagery are composites of multiple images from the\nLandsat satellite and are substantially cloud-free. They were produced \nin true color (using bands 3, 2 and 1) and pan-sharpened using\nband 8 to produce a spatial resolution of 15 meters. The imagery was \nthen resampled to 12.5 meters. \n\nThe bathymetric (ocean depth) data is derived from the Main Hawaiian \nIsland Bathymetric Data Synthesis dataset developed by the Hawai'i\nMapping Research Group (http://www.soest.hawaii.edu/HMRG/cms/).\nA color shaded relief image was produced from a 2010 version of the\nHMRG dataset and a land/ocean mask was used to integrate the Landsat \nimagery and bathymetry into a single image. \n\nSource data: Landsat 7 (ETM) satellite imagery\nImagery dates: 1999-2003\nImage format: JPEG2000 RGB Compressed\nDatum: NAD83\nProjection: UTM Zone 04 North\nProjection Units: Meters\nX resolution: 12.5 Meters\nY resolution: 12.5 Meters\nSource resolution for bathymetry data: 50 meters\nUncompressed file size: 5.84GB\nJPEG2000 compressed file size: 137MB\n\nUL X,Y: 309113.08E, 2497001.83N\nLR X,Y: 1015044.40E, 2034089.33N\n\nUL Lat, Long: 22:34:08.57N, 160:51:23.67W\nLR Lat, Long: 18:20:04.15N, 154:07:48.91W\n\nOriginator: Earthstar Geographics LLC\nWeb: www.terracolor.net\nEmail: terracolor@es-geo.com",
 "name": "SoH_Imagery/Landsat_SOH_1999_2003",
 "description": "Readme for Hawaii_Landsat_Mosaic_Bathymetric_Fill.jp2\n\nThis satellite image mosaic covers all the main Hawaiian Islands\nwith a bathymetric shaded relief image filled into the ocean\nareas. The land imagery are composites of multiple images from the\nLandsat satellite and are substantially cloud-free. They were produced \nin true color (using bands 3, 2 and 1) and pan-sharpened using\nband 8 to produce a spatial resolution of 15 meters. The imagery was \nthen resampled to 12.5 meters. \n\nThe bathymetric (ocean depth) data is derived from the Main Hawaiian \nIsland Bathymetric Data Synthesis dataset developed by the Hawai'i\nMapping Research Group (http://www.soest.hawaii.edu/HMRG/cms/).\nA color shaded relief image was produced from a 2010 version of the\nHMRG dataset and a land/ocean mask was used to integrate the Landsat \nimagery and bathymetry into a single image. \n\nSource data: Landsat 7 (ETM) satellite imagery\nImagery dates: 1999-2003\nImage format: JPEG2000 RGB Compressed\nDatum: NAD83\nProjection: UTM Zone 04 North\nProjection Units: Meters\nX resolution: 12.5 Meters\nY resolution: 12.5 Meters\nSource resolution for bathymetry data: 50 meters\nUncompressed file size: 5.84GB\nJPEG2000 compressed file size: 137MB\n\nUL X,Y: 309113.08E, 2497001.83N\nLR X,Y: 1015044.40E, 2034089.33N\n\nUL Lat, Long: 22:34:08.57N, 160:51:23.67W\nLR Lat, Long: 18:20:04.15N, 154:07:48.91W\n\nOriginator: Earthstar Geographics LLC\nWeb: www.terracolor.net\nEmail: terracolor@es-geo.com",
 "extent": {
  "xmin": 370654.65066227416,
  "ymin": 2093750.5553726975,
  "xmax": 940762.1580839832,
  "ymax": 2459059.856265053,
  "spatialReference": {
   "wkid": 26904,
   "latestWkid": 26904
  }
 },
 "initialExtent": {
  "xmin": 370654.65066227416,
  "ymin": 2093750.5553726975,
  "xmax": 940762.1580839832,
  "ymax": 2459059.856265053,
  "spatialReference": {
   "wkid": 26904,
   "latestWkid": 26904
  }
 },
 "fullExtent": {
  "xmin": 370654.65066227416,
  "ymin": 2093750.5553726975,
  "xmax": 940762.1580839832,
  "ymax": 2459059.856265053,
  "spatialReference": {
   "wkid": 26904,
   "latestWkid": 26904
  }
 },
 "pixelSizeX": 12.49989053523886,
 "pixelSizeY": 12.499890535238858,
 "bandCount": 3,
 "pixelType": "U16",
 "minPixelSize": 0,
 "maxPixelSize": 0,
 "copyrightText": "",
 "serviceDataType": "esriImageServiceDataTypeGeneric",
 "minValues": [
  8,
  20,
  6
 ],
 "maxValues": [
  250,
  244,
  242
 ],
 "meanValues": [
  82.87824081093375,
  95.6759080768481,
  78.16419025753211
 ],
 "stdvValues": [
  40.51292319189058,
  26.338122362329884,
  29.35844247453229
 ],
 "objectIdField": "OBJECTID",
 "fields": [
  {
   "name": "OBJECTID",
   "type": "esriFieldTypeOID",
   "alias": "OBJECTID",
   "domain": null
  },
  {
   "name": "Shape",
   "type": "esriFieldTypeGeometry",
   "alias": "Shape",
   "domain": null
  },
  {
   "name": "Name",
   "type": "esriFieldTypeString",
   "alias": "Name",
   "domain": null,
   "length": 200
  },
  {
   "name": "MinPS",
   "type": "esriFieldTypeDouble",
   "alias": "MinPS",
   "domain": null
  },
  {
   "name": "MaxPS",
   "type": "esriFieldTypeDouble",
   "alias": "MaxPS",
   "domain": null
  },
  {
   "name": "LowPS",
   "type": "esriFieldTypeDouble",
   "alias": "LowPS",
   "domain": null
  },
  {
   "name": "HighPS",
   "type": "esriFieldTypeDouble",
   "alias": "HighPS",
   "domain": null
  },
  {
   "name": "Category",
   "type": "esriFieldTypeInteger",
   "alias": "Category",
   "domain": {
    "type": "codedValue",
    "name": "MosaicCatalogItemCategoryDomain",
    "description": "Catalog item categories.",
    "codedValues": [
     {
      "name": "Unknown",
      "code": 0
     },
     {
      "name": "Primary",
      "code": 1
     },
     {
      "name": "Overview",
      "code": 2
     },
     {
      "name": "Unprocessed Overview",
      "code": 3
     },
     {
      "name": "Partial Overview",
      "code": 4
     },
     {
      "name": "Uploaded",
      "code": 253
     },
     {
      "name": "Incomplete",
      "code": 254
     },
     {
      "name": "Custom",
      "code": 255
     }
    ],
    "mergePolicy": "esriMPTDefaultValue",
    "splitPolicy": "esriSPTDefaultValue"
   }
  },
  {
   "name": "Tag",
   "type": "esriFieldTypeString",
   "alias": "Tag",
   "domain": null,
   "length": 100
  },
  {
   "name": "GroupName",
   "type": "esriFieldTypeString",
   "alias": "GroupName",
   "domain": null,
   "length": 100
  },
  {
   "name": "ProductName",
   "type": "esriFieldTypeString",
   "alias": "ProductName",
   "domain": null,
   "length": 100
  },
  {
   "name": "CenterX",
   "type": "esriFieldTypeDouble",
   "alias": "CenterX",
   "domain": null
  },
  {
   "name": "CenterY",
   "type": "esriFieldTypeDouble",
   "alias": "CenterY",
   "domain": null
  },
  {
   "name": "ZOrder",
   "type": "esriFieldTypeInteger",
   "alias": "ZOrder",
   "domain": null
  },
  {
   "name": "Shape_Length",
   "type": "esriFieldTypeDouble",
   "alias": "Shape_Length",
   "domain": null
  },
  {
   "name": "Shape_Area",
   "type": "esriFieldTypeDouble",
   "alias": "Shape_Area",
   "domain": null
  }
 ],
 "capabilities": "Image,Metadata,Catalog",
 "defaultMosaicMethod": "Northwest",
 "allowedMosaicMethods": "NorthWest,Center,LockRaster,ByAttribute,Nadir,Viewpoint,Seamline,None",
 "sortField": "",
 "sortValue": null,
 "sortAscending": true,
 "mosaicOperator": "First",
 "maxDownloadSizeLimit": 2048,
 "defaultCompressionQuality": 75,
 "defaultResamplingMethod": "Bilinear",
 "maxImageHeight": 4100,
 "maxImageWidth": 15000,
 "maxRecordCount": 1000,
 "maxDownloadImageCount": 20,
 "maxMosaicImageCount": 20,
 "allowRasterFunction": true,
 "rasterFunctionInfos": [
  {
   "name": "None",
   "description": "A No-Op Function.",
   "help": ""
  }
 ],
 "rasterTypeInfos": [
  {
   "name": "Raster Dataset",
   "description": "Supports all ArcGIS Raster Datasets",
   "help": ""
  }
 ],
 "mensurationCapabilities": "None",
 "hasHistograms": true,
 "hasColormap": false,
 "hasRasterAttributeTable": false,
 "minScale": 0,
 "maxScale": 0,
 "exportTilesAllowed": false,
 "hasMultidimensions": false,
 "supportsStatistics": true,
 "supportsAdvancedQueries": true,
 "editFieldsInfo": null,
 "ownershipBasedAccessControlForRasters": null,
 "allowComputeTiePoints": false,
 "useStandardizedQueries": true,
 "advancedQueryCapabilities": {
  "useStandardizedQueries": true,
  "supportsStatistics": true,
  "supportsOrderBy": true,
  "supportsDistinct": true,
  "supportsPagination": true
 },
 "spatialReference": {
  "wkid": 26904,
  "latestWkid": 26904
 }
}
