{
 "currentVersion": 10.91,
 "serviceDescription": "Digital Terrain Model (bare earth) of parts of Maui and Molokai. Partial coverage Vexcel, Inc. LIDAR of Maui and Molokai were purchased by County of Maui to assist with three-dimensional modeling of structures in areas of higher development. 1'/px, LIDAR-derived, bare earth DEM/elevation raster of parts of Maui and Molokai \u2013 specifically, Central Molokai, Kahului, Kihei, Lahaina and Pukalani. XY units: feet, Z units: meters. \n\nUse Limitations: 1.Disclaimer - This dataset is being placed in the public domain. Any use is allowed except for re-sale. Neither Vexcel, Inc., the County of Maui, nor the State of Hawaii make any guarantees, expressed or implied, regarding its accuracy or fitness of use. Users should verify XYZ values through a licensed surveyor for any engineering application. This data should only be used as a guide, vs. a statement of fact regarding real-world conditions. \n\n2.Vertical Datum - The originator of this LIDAR dataset, Vexcel Inc. of Boulder, Colorado referenced Z values to the North American Vertical Datum of 1988 (NAVD88). NAVD88 is not recognized as a valid vertical reference for the state of Hawaii. Currently Hawaii has no official (de jure or de facto) vertical datum, and NOAA's National Geodetic Survey (NGS) recommends that elevations be referenced to the nearest NOAA tidal gauge. A legacy LIDAR dataset produced in 2013 by the United States Army Corps of Engineers (USACE) used NAD83(PA11) as its vertical reference. In theory this approach should result in better accuracy for the Z dimension as PA11 is a Pacific plate-centric datum. In comparing flat areas containing neither structures or vegetation, it was found that the Vexcel values sit approximately 4 feet above the USACE dataset. The vertical datum issue was brought to the attention of Vexcel, Inc. Vexcel used the 2013 USACE LIDAR as vertical control to correct their LIDAR data. The (corrected) .las data is shared as it was delivered. As stated above, the use of this data transfers all risks and assumption of responsibility to the user. For more information see https://files.hawaii.gov/dbedt/op/gis/data/Maui_2019_DTM.html or contact County of Maui at GISMonitor@co.maui.hi.us or Hawaii Statewide GIS Program at gis@hawaii.gov. \n",
 "name": "SoH_Imagery/Maui_2019_DTM",
 "description": "Digital Terrain Model (bare earth) of parts of Maui and Molokai. Partial coverage Vexcel, Inc. LIDAR of Maui and Molokai were purchased by County of Maui to assist with three-dimensional modeling of structures in areas of higher development. 1'/px, LIDAR-derived, bare earth DEM/elevation raster of parts of Maui and Molokai \u2013 specifically, Central Molokai, Kahului, Kihei, Lahaina and Pukalani. XY units: feet, Z units: meters. \n\nUse Limitations: 1.Disclaimer - This dataset is being placed in the public domain. Any use is allowed except for re-sale. Neither Vexcel, Inc., the County of Maui, nor the State of Hawaii make any guarantees, expressed or implied, regarding its accuracy or fitness of use. Users should verify XYZ values through a licensed surveyor for any engineering application. This data should only be used as a guide, vs. a statement of fact regarding real-world conditions. \n\n2.Vertical Datum - The originator of this LIDAR dataset, Vexcel Inc. of Boulder, Colorado referenced Z values to the North American Vertical Datum of 1988 (NAVD88). NAVD88 is not recognized as a valid vertical reference for the state of Hawaii. Currently Hawaii has no official (de jure or de facto) vertical datum, and NOAA's National Geodetic Survey (NGS) recommends that elevations be referenced to the nearest NOAA tidal gauge. A legacy LIDAR dataset produced in 2013 by the United States Army Corps of Engineers (USACE) used NAD83(PA11) as its vertical reference. In theory this approach should result in better accuracy for the Z dimension as PA11 is a Pacific plate-centric datum. In comparing flat areas containing neither structures or vegetation, it was found that the Vexcel values sit approximately 4 feet above the USACE dataset. The vertical datum issue was brought to the attention of Vexcel, Inc. Vexcel used the 2013 USACE LIDAR as vertical control to correct their LIDAR data. The (corrected) .las data is shared as it was delivered. As stated above, the use of this data transfers all risks and assumption of responsibility to the user. For more information see https://files.hawaii.gov/dbedt/op/gis/data/Maui_2019_DTM.html or contact County of Maui at GISMonitor@co.maui.hi.us or Hawaii Statewide GIS Program at gis@hawaii.gov. \n",
 "extent": {
  "xmin": -1.74930617316E7,
  "ymin": 2344822.8077829317,
  "xmax": -1.7394301152478844E7,
  "ymax": 2415631.342200001,
  "spatialReference": {
   "wkid": 102100,
   "latestWkid": 3857
  }
 },
 "initialExtent": {
  "xmin": -1.74930617316E7,
  "ymin": 2344822.8077829317,
  "xmax": -1.7394301152478844E7,
  "ymax": 2415631.342200001,
  "spatialReference": {
   "wkid": 102100,
   "latestWkid": 3857
  }
 },
 "fullExtent": {
  "xmin": -1.74930617316E7,
  "ymin": 2344822.8077829317,
  "xmax": -1.7394301152478844E7,
  "ymax": 2415631.342200001,
  "spatialReference": {
   "wkid": 102100,
   "latestWkid": 3857
  }
 },
 "pixelSizeX": 0.304800609601217,
 "pixelSizeY": 0.30480060960122013,
 "bandCount": 1,
 "pixelType": "F32",
 "minPixelSize": 0,
 "maxPixelSize": 0,
 "copyrightText": "Dataset Credit: Vexcel Inc. of Boulder, Colorado, 2019",
 "serviceDataType": "esriImageServiceDataTypeGeneric",
 "minValues": [
  -1.9629552364349365
 ],
 "maxValues": [
  1724.1248779296875
 ],
 "meanValues": [
  263.3142620074233
 ],
 "stdvValues": [
  318.7514966519756
 ],
 "objectIdField": "OBJECTID",
 "fields": [
  {
   "name": "OBJECTID",
   "type": "esriFieldTypeOID",
   "alias": "OBJECTID",
   "domain": null
  },
  {
   "name": "Shape",
   "type": "esriFieldTypeGeometry",
   "alias": "Shape",
   "domain": null
  },
  {
   "name": "Name",
   "type": "esriFieldTypeString",
   "alias": "Name",
   "domain": null,
   "length": 200
  },
  {
   "name": "MinPS",
   "type": "esriFieldTypeDouble",
   "alias": "MinPS",
   "domain": null
  },
  {
   "name": "MaxPS",
   "type": "esriFieldTypeDouble",
   "alias": "MaxPS",
   "domain": null
  },
  {
   "name": "LowPS",
   "type": "esriFieldTypeDouble",
   "alias": "LowPS",
   "domain": null
  },
  {
   "name": "HighPS",
   "type": "esriFieldTypeDouble",
   "alias": "HighPS",
   "domain": null
  },
  {
   "name": "Category",
   "type": "esriFieldTypeInteger",
   "alias": "Category",
   "domain": {
    "type": "codedValue",
    "name": "MosaicCatalogItemCategoryDomain",
    "description": "Catalog item categories.",
    "codedValues": [
     {
      "name": "Unknown",
      "code": 0
     },
     {
      "name": "Primary",
      "code": 1
     },
     {
      "name": "Overview",
      "code": 2
     },
     {
      "name": "Unprocessed Overview",
      "code": 3
     },
     {
      "name": "Partial Overview",
      "code": 4
     },
     {
      "name": "Inactive",
      "code": 5
     },
     {
      "name": "Uploaded",
      "code": 253
     },
     {
      "name": "Incomplete",
      "code": 254
     },
     {
      "name": "Custom",
      "code": 255
     }
    ],
    "mergePolicy": "esriMPTDefaultValue",
    "splitPolicy": "esriSPTDefaultValue"
   }
  },
  {
   "name": "Tag",
   "type": "esriFieldTypeString",
   "alias": "Tag",
   "domain": null,
   "length": 100
  },
  {
   "name": "GroupName",
   "type": "esriFieldTypeString",
   "alias": "GroupName",
   "domain": null,
   "length": 100
  },
  {
   "name": "ProductName",
   "type": "esriFieldTypeString",
   "alias": "ProductName",
   "domain": null,
   "length": 100
  },
  {
   "name": "CenterX",
   "type": "esriFieldTypeDouble",
   "alias": "CenterX",
   "domain": null
  },
  {
   "name": "CenterY",
   "type": "esriFieldTypeDouble",
   "alias": "CenterY",
   "domain": null
  },
  {
   "name": "ZOrder",
   "type": "esriFieldTypeInteger",
   "alias": "ZOrder",
   "domain": null
  },
  {
   "name": "Shape_Length",
   "type": "esriFieldTypeDouble",
   "alias": "Shape_Length",
   "domain": null
  },
  {
   "name": "Shape_Area",
   "type": "esriFieldTypeDouble",
   "alias": "Shape_Area",
   "domain": null
  }
 ],
 "capabilities": "Image,Metadata,Catalog",
 "defaultMosaicMethod": "Northwest",
 "allowedMosaicMethods": "NorthWest,Center,LockRaster,ByAttribute,Nadir,Viewpoint,Seamline,None",
 "sortField": "",
 "sortValue": null,
 "sortAscending": true,
 "mosaicOperator": "First",
 "maxDownloadSizeLimit": 2048,
 "defaultCompressionQuality": 75,
 "defaultResamplingMethod": "Bilinear",
 "maxImageHeight": 4100,
 "maxImageWidth": 15000,
 "maxRecordCount": 1000,
 "maxDownloadImageCount": 20,
 "maxMosaicImageCount": 20,
 "allowRasterFunction": true,
 "rasterFunctionInfos": [
  {
   "name": "GrayscaleHillshade",
   "description": "A raster function template.",
   "help": ""
  },
  {
   "name": "None",
   "description": "Make a Raster or Raster Dataset into a Function Raster Dataset.",
   "help": ""
  },
  {
   "name": "AspectRGBMap",
   "description": "A raster function template.",
   "help": ""
  },
  {
   "name": "SlopeRGBMap",
   "description": "A raster function template.",
   "help": ""
  }
 ],
 "rasterTypeInfos": [
  {
   "name": "Raster Dataset",
   "description": "Supports all ArcGIS Raster Datasets",
   "help": ""
  }
 ],
 "mensurationCapabilities": "None",
 "hasHistograms": true,
 "hasColormap": false,
 "hasRasterAttributeTable": false,
 "minScale": 0,
 "maxScale": 0,
 "exportTilesAllowed": false,
 "hasMultidimensions": false,
 "supportsStatistics": true,
 "supportsAdvancedQueries": true,
 "editFieldsInfo": null,
 "ownershipBasedAccessControlForRasters": null,
 "allowComputeTiePoints": false,
 "useStandardizedQueries": true,
 "advancedQueryCapabilities": {
  "useStandardizedQueries": true,
  "supportsStatistics": true,
  "supportsOrderBy": true,
  "supportsDistinct": true,
  "supportsPagination": true
 },
 "spatialReference": {
  "wkid": 102100,
  "latestWkid": 3857
 }
}
