View In:
ArcGIS JavaScript
ArcGIS Online Map Viewer
ArcGIS Earth
Service Description: Elevation surface for portions of the Hawaiian islands based upon lidar data collected by State of Hawaii and its data partners from 1999-2017. Elevation values are in meters.
Name: SoH_Imagery/Hawaii_DTM_elevation
Description: Elevation surface for portions of the Hawaiian islands based upon lidar data collected by State of Hawaii and its data partners from 1999-2017. Elevation values are in meters.
Single Fused Map Cache: true
Tile Info:
- Height: 256
- Width: 256
- DPI: 96
-
Levels of Detail: 24
-
Level ID: 1
[ Start Tile, End Tile ]
- Resolution: 78271.5169639999
- Scale: 2.9582876379577684E8
-
Level ID: 2
[ Start Tile, End Tile ]
- Resolution: 39135.7584820001
- Scale: 1.4791438189788902E8
-
Level ID: 3
[ Start Tile, End Tile ]
- Resolution: 19567.8792409999
- Scale: 7.395719094894394E7
-
Level ID: 4
[ Start Tile, End Tile ]
- Resolution: 9783.93962049996
- Scale: 3.6978595474472E7
-
Level ID: 5
[ Start Tile, End Tile ]
- Resolution: 4891.96981024998
- Scale: 1.8489297737236E7
-
Level ID: 7
[ Start Tile, End Tile ]
- Resolution: 1222.99245256249
- Scale: 4622324.4343089815
-
Level ID: 9
[ Start Tile, End Tile ]
- Resolution: 305.748113140558
- Scale: 1155581.1085770018
-
Level ID: 10
[ Start Tile, End Tile ]
- Resolution: 152.874056570411
- Scale: 577790.5542889998
-
Level ID: 11
[ Start Tile, End Tile ]
- Resolution: 76.4370282850732
- Scale: 288895.2771439998
-
Level ID: 12
[ Start Tile, End Tile ]
- Resolution: 38.2185141425366
- Scale: 144447.6385719999
-
Level ID: 13
[ Start Tile, End Tile ]
- Resolution: 19.1092570712683
- Scale: 72223.81928599995
-
Level ID: 14
[ Start Tile, End Tile ]
- Resolution: 9.55462853563415
- Scale: 36111.90964299998
-
Level ID: 16
[ Start Tile, End Tile ]
- Resolution: 2.38865713397468
- Scale: 9027.977410999982
-
Level ID: 17
[ Start Tile, End Tile ]
- Resolution: 1.19432856685505
- Scale: 4513.988704999999
-
Level ID: 18
[ Start Tile, End Tile ]
- Resolution: 0.597164283559817
- Scale: 2256.9943529999996
-
Level ID: 19
[ Start Tile, End Tile ]
- Resolution: 0.298582141647617
- Scale: 1128.4971760000012
- Format: LERC
- Compression Quality: 100000.0
- LERC Error: 0.1
- Origin: X: -2.0037508342787E7
Y: 2.0037508342787E7
- Spatial Reference: 102100
(3857)
LatestVCSWkid(0)
Storage Info:
- Storage Format: esriMapCacheStorageModeCompactV2
- Packet Size: 128
Extent:
XMin: -1.7493061797051437E7
YMin: 2344822.8922582716
XMax: -1.739430127496936E7
YMax: 2415631.348567862
Spatial Reference: 102100
(3857)
LatestVCSWkid(0)
Initial Extent:
XMin: -1.7493061797051437E7
YMin: 2344822.8922582716
XMax: -1.739430127496936E7
YMax: 2415631.348567862
Spatial Reference: 102100
(3857)
LatestVCSWkid(0)
Full Extent:
XMin: -1.7493061797051437E7
YMin: 2344822.8922582716
XMax: -1.739430127496936E7
YMax: 2415631.348567862
Spatial Reference: 102100
(3857)
LatestVCSWkid(0)
Pixel Size X: 0.29858214164762137
Pixel Size Y: 0.298582141647616
Band Count: 1
Pixel Type: F32
RasterFunction Infos: {"rasterFunctionInfos": [{
"name": "None",
"description": "",
"help": ""
}]}
Mensuration Capabilities:
Inspection Capabilities:
Has Histograms: false
Has Colormap: false
Has Multi Dimensions : false
Rendering Rule:
Min Scale: 2.95828763795777E8
Max Scale: 2256.994353
Resampling: false
Copyright Text:
Service Data Type: esriImageServiceDataTypeGeneric
Min Values: -1.9629552364349365
Max Values: 1724.1248779296875
Mean Values: 263.3142620074233
Standard Deviation Values: 318.7514966519756
Object ID Field:
Fields:
None
Default Mosaic Method: Northwest
Allowed Mosaic Methods: NorthWest,Center,LockRaster,ByAttribute,Nadir,Viewpoint,Seamline,None
SortField:
SortValue: null
Mosaic Operator: First
Default Compression Quality: 75
Default Resampling Method: Nearest
Max Record Count: 1000
Max Image Height: 4100
Max Image Width: 15000
Max Download Image Count: 20
Max Mosaic Image Count: 20
Allow Raster Function: true
Allow Copy: true
Allow Analysis: true
Allow Compute TiePoints: false
Supports Statistics: false
Supports Advanced Queries: false
Use StandardizedQueries: true
Raster Type Infos:
Name: Raster Dataset
Description: Supports all ArcGIS Raster Datasets
Help:
Has Raster Attribute Table: false
Edit Fields Info: null
Ownership Based AccessControl For Rasters: null
Child Resources:
Info
Statistics
Key Properties
Legend
Raster Function Infos
Supported Operations:
Export Image
Query
Identify
Compute Histograms
Compute Statistics Histograms
Get Samples
Compute Class Statistics
Query GPS Info
Find Images
Image to Map
Map to Image
Measure from Image
Image to Map Multiray
Query Boundary
Compute Pixel Location
Compute Angles
Validate
Project