View In:
ArcGIS JavaScript
ArcGIS Online Map Viewer
ArcGIS Earth
Service Description: This is a licensed dataset from Maxar-DigitalGlobe, Inc. USDA-FPAC-BC-GEO Branch acquired this Hawaiian Islands Vivid Orthoimagery Mosaic dataset directly from Maxar-DigitalGlobe, Inc. USDA-FPAC-BC-GEO Branch upgraded the End User License Agreement(EULA)to users >5 with the ability to publicly publish the dataset. The original received data cannot be downloaded via public access. Please contact USDA-FPAC-BC-GEO Branch for current license information on this dataset. The U.S. Government may provide the imagery to the following: State Governments, Local Governments, Foreign Governments and inter-governmental organizations, NGO's and other non-profit organizations including Government cooperators such as private citizens. Use of this product for Commercial Purposes by a person/company/organization for a profit or fee is strictly prohibited. Digital orthoimagery combines the image characteristics of a digital image with the geometric qualities of a map. The primary dynamic digital orthophoto is a 30-50 centimeter ground resolution, image cast to the customer specified projection and datum defined in the Spatial Reference Information section of this metadata document. The overedge is included to facilitate tonal matching for mosaicking and ensure full coverage if the imagery is reprojected. The normal orientation of data is by lines (rows) and samples (columns). Each line contains a series of pixels ordered from west to east with the order of the lines from north to south. Maxar-DigitalGlobe Vivid Standard Satellite Orthoimagery mosaic was delivered to USDA in GeoTIFF file format. Maxar-DigitalGlobe Vivid mosaic is from WV-2, WV-2, WV-4 and Geo1 satellites. Vivid Standard Orthoimagery dataset is .5 m/50 cm ground resolution, 4 Bands, 8 Bits Pan-Sharpen GeoTIFF files. The mosaic is cloud patched, tone matched and has a horizontal accuracy of 5 meters at CE 90%. The Maxar-DigitalGlobe Vivid Standard Satellite Composite Orthoimagery Mosaic contains 363 tiles for all of the Hawaiian Islands. The images were captured from 11/12/21-1/19/23. See Vivid_2022_Metadata map service for dates of specific images. Please contact the Hawaii Statewide GIS Program with questions about this map service at gis@hawaii.gov.
Name: SoH_Imagery/Vivid_2022
Description: This is a licensed dataset from Maxar-DigitalGlobe, Inc. USDA-FPAC-BC-GEO Branch acquired this Hawaiian Islands Vivid Orthoimagery Mosaic dataset directly from Maxar-DigitalGlobe, Inc. USDA-FPAC-BC-GEO Branch upgraded the End User License Agreement(EULA)to users >5 with the ability to publicly publish the dataset. The original received data cannot be downloaded via public access. Please contact USDA-FPAC-BC-GEO Branch for current license information on this dataset. The U.S. Government may provide the imagery to the following: State Governments, Local Governments, Foreign Governments and inter-governmental organizations, NGO's and other non-profit organizations including Government cooperators such as private citizens. Use of this product for Commercial Purposes by a person/company/organization for a profit or fee is strictly prohibited. Digital orthoimagery combines the image characteristics of a digital image with the geometric qualities of a map. The primary dynamic digital orthophoto is a 30-50 centimeter ground resolution, image cast to the customer specified projection and datum defined in the Spatial Reference Information section of this metadata document. The overedge is included to facilitate tonal matching for mosaicking and ensure full coverage if the imagery is reprojected. The normal orientation of data is by lines (rows) and samples (columns). Each line contains a series of pixels ordered from west to east with the order of the lines from north to south. Maxar-DigitalGlobe Vivid Standard Satellite Orthoimagery mosaic was delivered to USDA in GeoTIFF file format. Maxar-DigitalGlobe Vivid mosaic is from WV-2, WV-2, WV-4 and Geo1 satellites. Vivid Standard Orthoimagery dataset is .5 m/50 cm ground resolution, 4 Bands, 8 Bits Pan-Sharpen GeoTIFF files. The mosaic is cloud patched, tone matched and has a horizontal accuracy of 5 meters at CE 90%. The Maxar-DigitalGlobe Vivid Standard Satellite Composite Orthoimagery Mosaic contains 363 tiles for all of the Hawaiian Islands. The images were captured from 11/12/21-1/19/23. See Vivid_2022_Metadata map service for dates of specific images. Please contact the Hawaii Statewide GIS Program with questions about this map service at gis@hawaii.gov.
Single Fused Map Cache: false
Extent:
XMin: -1.78464467024E7
YMin: 2139257.776267112
XMax: -1.7225679502503462E7
YMax: 2541935.1761999987
Spatial Reference: 102100
(3857)
LatestVCSWkid(0)
Initial Extent:
XMin: -1.78464467024E7
YMin: 2139257.776267112
XMax: -1.7225679502503462E7
YMax: 2541935.1761999987
Spatial Reference: 102100
(3857)
LatestVCSWkid(0)
Full Extent:
XMin: -1.78464467024E7
YMin: 2139257.776267112
XMax: -1.7225679502503462E7
YMax: 2541935.1761999987
Spatial Reference: 102100
(3857)
LatestVCSWkid(0)
Pixel Size X: 0.5999999998999981
Pixel Size Y: 0.5999999998999991
Band Count: 3
Pixel Type: U8
RasterFunction Infos: {"rasterFunctionInfos": [{
"name": "None",
"description": "A No-Op Function.",
"help": ""
}]}
Mensuration Capabilities: None
Inspection Capabilities:
Has Histograms: true
Has Colormap: false
Has Multi Dimensions : false
Rendering Rule:
Min Scale: 0
Max Scale: 0
Copyright Text: United States Department of Agriculture, Farm Production and Conservation Business Center, Geospatial Enterprise Operations; Hawaii Statewide GIS Program
Service Data Type: esriImageServiceDataTypeRGB
Min Values: 1, 1, 1
Max Values: 255, 255, 255
Mean Values: 69.01811627978715, 86.46066071241702, 98.66094718816323
Standard Deviation Values: 37.536712157769635, 31.26378334952861, 23.145371848103142
Object ID Field: OBJECTID
Fields:
-
OBJECTID
(
type: esriFieldTypeOID, alias: OBJECTID
)
-
Shape
(
type: esriFieldTypeGeometry, alias: Shape
)
-
Name
(
type: esriFieldTypeString, alias: Name, length: 200
)
-
MinPS
(
type: esriFieldTypeDouble, alias: MinPS
)
-
MaxPS
(
type: esriFieldTypeDouble, alias: MaxPS
)
-
LowPS
(
type: esriFieldTypeDouble, alias: LowPS
)
-
HighPS
(
type: esriFieldTypeDouble, alias: HighPS
)
-
Category
(
type: esriFieldTypeInteger, alias: Category
, Coded Values:
[0: Unknown]
, [1: Primary]
, [2: Overview]
, ...6 more...
)
-
Tag
(
type: esriFieldTypeString, alias: Tag, length: 100
)
-
GroupName
(
type: esriFieldTypeString, alias: GroupName, length: 100
)
-
ProductName
(
type: esriFieldTypeString, alias: ProductName, length: 100
)
-
CenterX
(
type: esriFieldTypeDouble, alias: CenterX
)
-
CenterY
(
type: esriFieldTypeDouble, alias: CenterY
)
-
ZOrder
(
type: esriFieldTypeInteger, alias: ZOrder
)
-
Shape_Length
(
type: esriFieldTypeDouble, alias: Shape_Length
)
-
Shape_Area
(
type: esriFieldTypeDouble, alias: Shape_Area
)
Default Mosaic Method: Northwest
Allowed Mosaic Methods: NorthWest,Center,LockRaster,ByAttribute,Nadir,Viewpoint,Seamline,None
SortField:
SortValue: null
Mosaic Operator: First
Default Compression Quality: 75
Default Resampling Method: Bilinear
Max Record Count: 1000
Max Image Height: 4100
Max Image Width: 15000
Max Download Image Count: 20
Max Mosaic Image Count: 20
Allow Raster Function: true
Allow Copy: true
Allow Analysis: true
Allow Compute TiePoints: false
Supports Statistics: true
Supports Advanced Queries: true
Use StandardizedQueries: true
Raster Type Infos:
Name: Raster Dataset
Description: Supports all ArcGIS Raster Datasets
Help:
Has Raster Attribute Table: false
Edit Fields Info: null
Ownership Based AccessControl For Rasters: null
Child Resources:
Info
Histograms
Statistics
Key Properties
Legend
Raster Function Infos
Supported Operations:
Export Image
Query
Identify
Compute Histograms
Compute Statistics Histograms
Get Samples
Compute Class Statistics
Query GPS Info
Find Images
Image to Map
Map to Image
Measure from Image
Image to Map Multiray
Query Boundary
Compute Pixel Location
Compute Angles
Validate
Project