View In:
ArcGIS JavaScript
ArcGIS Online Map Viewer
ArcGIS Earth
Service Description: This satellite image mosaic covers all the main Hawaiian Islands
with a bathymetric shaded relief image filled into the ocean
areas. The land imagery are composites of multiple images from the
Landsat satellite and are substantially cloud-free. They were produced in true color (using bands 3, 2 and 1) and pan-sharpened using
band 8 to produce a spatial resolution of 15 meters. The imagery was then resampled to 12.5 meters. The bathymetric (ocean depth) data is derived from the Main Hawaiian Island Bathymetric Data Synthesis dataset developed by the Hawai'i
Mapping Research Group (http://www.soest.hawaii.edu/HMRG/cms/).
A color shaded relief image was produced from a 2010 version of the
HMRG dataset and a land/ocean mask was used to integrate the Landsat imagery and bathymetry into a single image. Source data: Landsat 7 (ETM) satellite imagery
Imagery dates: 1999-2003
Image format: JPEG2000 RGB Compressed
Datum: NAD83
Projection: UTM Zone 04 North
Projection Units: Meters
X resolution: 12.5 Meters
Y resolution: 12.5 Meters
Source resolution for bathymetry data: 50 meters
Uncompressed file size: 5.84GB
JPEG2000 compressed file size: 137MB
UL X,Y: 309113.08E, 2497001.83N
LR X,Y: 1015044.40E, 2034089.33N
UL Lat, Long: 22:34:08.57N, 160:51:23.67W
LR Lat, Long: 18:20:04.15N, 154:07:48.91W
Originator: Earthstar Geographics LLC
Web: www.terracolor.net
Email: terracolor@es-geo.com
Name: SoH_Imagery/landsat_SOH_2015_2019
Description: This satellite image mosaic covers all the main Hawaiian Islands
with a bathymetric shaded relief image filled into the ocean
areas. The land imagery are composites of multiple images from the
Landsat satellite and are substantially cloud-free. They were produced in true color (using bands 3, 2 and 1) and pan-sharpened using
band 8 to produce a spatial resolution of 15 meters. The imagery was then resampled to 12.5 meters. The bathymetric (ocean depth) data is derived from the Main Hawaiian Island Bathymetric Data Synthesis dataset developed by the Hawai'i
Mapping Research Group (http://www.soest.hawaii.edu/HMRG/cms/).
A color shaded relief image was produced from a 2010 version of the
HMRG dataset and a land/ocean mask was used to integrate the Landsat imagery and bathymetry into a single image. Source data: Landsat 7 (ETM) satellite imagery
Imagery dates: 1999-2003
Image format: JPEG2000 RGB Compressed
Datum: NAD83
Projection: UTM Zone 04 North
Projection Units: Meters
X resolution: 12.5 Meters
Y resolution: 12.5 Meters
Source resolution for bathymetry data: 50 meters
Uncompressed file size: 5.84GB
JPEG2000 compressed file size: 137MB
UL X,Y: 309113.08E, 2497001.83N
LR X,Y: 1015044.40E, 2034089.33N
UL Lat, Long: 22:34:08.57N, 160:51:23.67W
LR Lat, Long: 18:20:04.15N, 154:07:48.91W
Originator: Earthstar Geographics LLC
Web: www.terracolor.net
Email: terracolor@es-geo.com
Single Fused Map Cache: false
Extent:
XMin: -160.7499613704658
YMin: 18.575778822200196
XMax: -154.2920137704658
YMax: 22.689255622200196
Spatial Reference: 4326
(4326)
LatestVCSWkid(0)
Initial Extent:
XMin: -160.7499613704658
YMin: 18.575778822200196
XMax: -154.2920137704658
YMax: 22.689255622200196
Spatial Reference: 4326
(4326)
LatestVCSWkid(0)
Full Extent:
XMin: -160.7499613704658
YMin: 18.575778822200196
XMax: -154.2920137704658
YMax: 22.689255622200196
Spatial Reference: 4326
(4326)
LatestVCSWkid(0)
Pixel Size X: 1.3880000000000026E-4
Pixel Size Y: 1.3880000000000004E-4
Band Count: 3
Pixel Type: U8
RasterFunction Infos: {"rasterFunctionInfos": [{
"name": "None",
"description": "",
"help": ""
}]}
Mensuration Capabilities: Basic
Inspection Capabilities:
Has Histograms: true
Has Colormap: false
Has Multi Dimensions : false
Rendering Rule:
Min Scale: 0
Max Scale: 0
Copyright Text:
Service Data Type: esriImageServiceDataTypeRGB
Min Values: 0, 3, 2
Max Values: 255, 255, 255
Mean Values: 10.275739517589, 37.621758103862, 52.641700865986
Standard Deviation Values: 17.869846981799, 21.727395200995, 19.484788072203
Object ID Field:
Fields:
None
Default Mosaic Method: Center
Allowed Mosaic Methods:
SortField:
SortValue: null
Mosaic Operator: First
Default Compression Quality: 75
Default Resampling Method: Bilinear
Max Record Count: null
Max Image Height: 4100
Max Image Width: 15000
Max Download Image Count: null
Max Mosaic Image Count: null
Allow Raster Function: true
Allow Copy: true
Allow Analysis: true
Allow Compute TiePoints: false
Supports Statistics: false
Supports Advanced Queries: false
Use StandardizedQueries: true
Raster Type Infos:
Name: Raster Dataset
Description: Supports all ArcGIS Raster Datasets
Help:
Has Raster Attribute Table: false
Edit Fields Info: null
Ownership Based AccessControl For Rasters: null
Child Resources:
Info
Histograms
Statistics
Key Properties
Legend
Raster Function Infos
Supported Operations:
Export Image
Identify
Measure
Compute Histograms
Compute Statistics Histograms
Get Samples
Compute Class Statistics
Query Boundary
Compute Pixel Location
Compute Angles
Validate
Project