View In:
ArcGIS JavaScript
ArcGIS Online Map Viewer
ArcGIS Earth
Service Description: SoH_Imagery/HDOTA_FAR_Part77_Airspace_Surfaces
Name: SoH_Imagery/HDOTA_FAR_Part77_Airspace_Surfaces
Description:
Single Fused Map Cache: false
Extent:
XMin: 433053.4320583865
YMin: 2160319.2527416963
XMax: 934132.37476794
YMax: 2446463.2676722375
Spatial Reference: 102202
(3750)
LatestVCSWkid(0)
Initial Extent:
XMin: 433053.4320583865
YMin: 2160319.2527416963
XMax: 934132.37476794
YMax: 2446463.2676722375
Spatial Reference: 102202
(3750)
LatestVCSWkid(0)
Full Extent:
XMin: 433053.4320583865
YMin: 2160319.2527416963
XMax: 934132.37476794
YMax: 2446463.2676722375
Spatial Reference: 102202
(3750)
LatestVCSWkid(0)
Pixel Size X: 7.830337271995774
Pixel Size Y: 7.830337271995763
Band Count: 1
Pixel Type: F32
RasterFunction Infos: {"rasterFunctionInfos": [
{
"name": "None",
"description": "Make a Raster or Raster Dataset into a Function Raster Dataset.",
"help": ""
},
{
"name": "Raster Function Template symbology",
"description": "Symbology",
"help": ""
},
{
"name": "None",
"description": "Make a Raster or Raster Dataset into a Function Raster Dataset.",
"help": ""
}
]}
Mensuration Capabilities: Basic
Inspection Capabilities:
Has Histograms: true
Has Colormap: false
Has Multi Dimensions : false
Rendering Rule:
Min Scale: 0
Max Scale: 0
Copyright Text:
Service Data Type: esriImageServiceDataTypeGeneric
Min Values: 6.599999904632568
Max Values: 3219.08447265625
Mean Values: 781.336323373812
Standard Deviation Values: 690.1013551850305
Object ID Field:
Fields:
None
Default Mosaic Method: Center
Allowed Mosaic Methods:
SortField:
SortValue: null
Mosaic Operator: First
Default Compression Quality: 75
Default Resampling Method: Bilinear
Max Record Count: null
Max Image Height: 4100
Max Image Width: 15000
Max Download Image Count: null
Max Mosaic Image Count: null
Allow Raster Function: true
Allow Copy: true
Allow Analysis: true
Allow Compute TiePoints: false
Supports Statistics: false
Supports Advanced Queries: false
Use StandardizedQueries: true
Raster Type Infos:
Name: Raster Dataset
Description: Supports all ArcGIS Raster Datasets
Help:
Has Raster Attribute Table: false
Edit Fields Info: null
Ownership Based AccessControl For Rasters: null
Child Resources:
Info
Histograms
Statistics
Key Properties
Legend
Raster Function Infos
Supported Operations:
Export Image
Identify
Measure
Compute Histograms
Compute Statistics Histograms
Get Samples
Compute Class Statistics
Query Boundary
Compute Pixel Location
Compute Angles
Validate
Project