View In:
ArcGIS JavaScript
ArcGIS Online Map Viewer
ArcGIS Earth
Service Description: Readme for Hawaii_Landsat_Mosaic_Bathymetric_Fill.jp2
This satellite image mosaic covers all the main Hawaiian Islands
with a bathymetric shaded relief image filled into the ocean
areas. The land imagery are composites of multiple images from the
Landsat satellite and are substantially cloud-free. They were produced in true color (using bands 3, 2 and 1) and pan-sharpened using
band 8 to produce a spatial resolution of 15 meters. The imagery was then resampled to 12.5 meters. The bathymetric (ocean depth) data is derived from the Main Hawaiian Island Bathymetric Data Synthesis dataset developed by the Hawai'i
Mapping Research Group (http://www.soest.hawaii.edu/HMRG/cms/).
A color shaded relief image was produced from a 2010 version of the
HMRG dataset and a land/ocean mask was used to integrate the Landsat imagery and bathymetry into a single image. Source data: Landsat 7 (ETM) satellite imagery
Imagery dates: 1999-2003
Image format: JPEG2000 RGB Compressed
Datum: NAD83
Projection: UTM Zone 04 North
Projection Units: Meters
X resolution: 12.5 Meters
Y resolution: 12.5 Meters
Source resolution for bathymetry data: 50 meters
Uncompressed file size: 5.84GB
JPEG2000 compressed file size: 137MB
UL X,Y: 309113.08E, 2497001.83N
LR X,Y: 1015044.40E, 2034089.33N
UL Lat, Long: 22:34:08.57N, 160:51:23.67W
LR Lat, Long: 18:20:04.15N, 154:07:48.91W
Originator: Earthstar Geographics LLC
Web: www.terracolor.net
Email: terracolor@es-geo.com
Name: SoH_Imagery/Landsat_SOH_1999_2003
Description: Readme for Hawaii_Landsat_Mosaic_Bathymetric_Fill.jp2
This satellite image mosaic covers all the main Hawaiian Islands
with a bathymetric shaded relief image filled into the ocean
areas. The land imagery are composites of multiple images from the
Landsat satellite and are substantially cloud-free. They were produced in true color (using bands 3, 2 and 1) and pan-sharpened using
band 8 to produce a spatial resolution of 15 meters. The imagery was then resampled to 12.5 meters. The bathymetric (ocean depth) data is derived from the Main Hawaiian Island Bathymetric Data Synthesis dataset developed by the Hawai'i
Mapping Research Group (http://www.soest.hawaii.edu/HMRG/cms/).
A color shaded relief image was produced from a 2010 version of the
HMRG dataset and a land/ocean mask was used to integrate the Landsat imagery and bathymetry into a single image. Source data: Landsat 7 (ETM) satellite imagery
Imagery dates: 1999-2003
Image format: JPEG2000 RGB Compressed
Datum: NAD83
Projection: UTM Zone 04 North
Projection Units: Meters
X resolution: 12.5 Meters
Y resolution: 12.5 Meters
Source resolution for bathymetry data: 50 meters
Uncompressed file size: 5.84GB
JPEG2000 compressed file size: 137MB
UL X,Y: 309113.08E, 2497001.83N
LR X,Y: 1015044.40E, 2034089.33N
UL Lat, Long: 22:34:08.57N, 160:51:23.67W
LR Lat, Long: 18:20:04.15N, 154:07:48.91W
Originator: Earthstar Geographics LLC
Web: www.terracolor.net
Email: terracolor@es-geo.com
Single Fused Map Cache: false
Extent:
XMin: 370654.65066227416
YMin: 2093750.5553726975
XMax: 940762.1580839832
YMax: 2459059.856265053
Spatial Reference: 26904
(26904)
LatestVCSWkid(0)
Initial Extent:
XMin: 370654.65066227416
YMin: 2093750.5553726975
XMax: 940762.1580839832
YMax: 2459059.856265053
Spatial Reference: 26904
(26904)
LatestVCSWkid(0)
Full Extent:
XMin: 370654.65066227416
YMin: 2093750.5553726975
XMax: 940762.1580839832
YMax: 2459059.856265053
Spatial Reference: 26904
(26904)
LatestVCSWkid(0)
Pixel Size X: 12.49989053523886
Pixel Size Y: 12.499890535238858
Band Count: 3
Pixel Type: U16
RasterFunction Infos: {"rasterFunctionInfos": [{
"name": "None",
"description": "A No-Op Function.",
"help": ""
}]}
Mensuration Capabilities: None
Inspection Capabilities:
Has Histograms: true
Has Colormap: false
Has Multi Dimensions : false
Rendering Rule:
Min Scale: 0
Max Scale: 0
Copyright Text:
Service Data Type: esriImageServiceDataTypeGeneric
Min Values: 8, 20, 6
Max Values: 250, 244, 242
Mean Values: 82.87824081093375, 95.6759080768481, 78.16419025753211
Standard Deviation Values: 40.51292319189058, 26.338122362329884, 29.35844247453229
Object ID Field: OBJECTID
Fields:
-
OBJECTID
(
type: esriFieldTypeOID, alias: OBJECTID
)
-
Shape
(
type: esriFieldTypeGeometry, alias: Shape
)
-
Name
(
type: esriFieldTypeString, alias: Name, length: 200
)
-
MinPS
(
type: esriFieldTypeDouble, alias: MinPS
)
-
MaxPS
(
type: esriFieldTypeDouble, alias: MaxPS
)
-
LowPS
(
type: esriFieldTypeDouble, alias: LowPS
)
-
HighPS
(
type: esriFieldTypeDouble, alias: HighPS
)
-
Category
(
type: esriFieldTypeInteger, alias: Category
, Coded Values:
[0: Unknown]
, [1: Primary]
, [2: Overview]
, ...5 more...
)
-
Tag
(
type: esriFieldTypeString, alias: Tag, length: 100
)
-
GroupName
(
type: esriFieldTypeString, alias: GroupName, length: 100
)
-
ProductName
(
type: esriFieldTypeString, alias: ProductName, length: 100
)
-
CenterX
(
type: esriFieldTypeDouble, alias: CenterX
)
-
CenterY
(
type: esriFieldTypeDouble, alias: CenterY
)
-
ZOrder
(
type: esriFieldTypeInteger, alias: ZOrder
)
-
Shape_Length
(
type: esriFieldTypeDouble, alias: Shape_Length
)
-
Shape_Area
(
type: esriFieldTypeDouble, alias: Shape_Area
)
Default Mosaic Method: Northwest
Allowed Mosaic Methods: NorthWest,Center,LockRaster,ByAttribute,Nadir,Viewpoint,Seamline,None
SortField:
SortValue: null
Mosaic Operator: First
Default Compression Quality: 75
Default Resampling Method: Bilinear
Max Record Count: 1000
Max Image Height: 4100
Max Image Width: 15000
Max Download Image Count: 20
Max Mosaic Image Count: 20
Allow Raster Function: true
Allow Copy: true
Allow Analysis: true
Allow Compute TiePoints: false
Supports Statistics: true
Supports Advanced Queries: true
Use StandardizedQueries: true
Raster Type Infos:
Name: Raster Dataset
Description: Supports all ArcGIS Raster Datasets
Help:
Has Raster Attribute Table: false
Edit Fields Info: null
Ownership Based AccessControl For Rasters: null
Child Resources:
Info
Histograms
Statistics
Key Properties
Legend
Raster Function Infos
Supported Operations:
Export Image
Query
Identify
Compute Histograms
Compute Statistics Histograms
Get Samples
Compute Class Statistics
Query GPS Info
Find Images
Image to Map
Map to Image
Measure from Image
Image to Map Multiray
Query Boundary
Compute Pixel Location
Compute Angles
Validate
Project